BEGIN:VCALENDAR
VERSION:2.0
PRODID:-//projectpinkd.org//NONSGML kigkonsult.se iCalcreator 2.30.10//
CALSCALE:GREGORIAN
METHOD:PUBLISH
UID:709d84db-754f-4ee0-b2e6-d58e2a359d5f
X-WR-CALDESC:Project Pink'd is excited to present Sean Figy M.D.\, a plasti
 c and reconstructive surgery specialist with a specialty in reconstructive
  microsurgery and complex reconstruction. He also has an additional specia
 lty in lymphatic surgeries. \n\nIn this Straight Talk: Ask an Expert serie
 s with Dr. Figy we will explore new and emerging treatments for lymphedema
 . Cutting edge therapies such as lymphovenous bypass and vascularized lymp
 h node transplants will be discussed. Special emphasis will be placed on h
 ow these therapies integrate into current treatment modalities.\n\nSo grab
  a drink\, put on some comfy clothes and tune in with your family for just
  60 minutes – all in the comfort of your own home!\n\nThis program is comp
 lementary to breast cancer survivors in NE & Western IA and is made possib
 le by our many generous donors.\n\nNote: This LIVE Video Webcast will be b
 roadcast exclusively on our private Pink'd Survivors Unite Facebook page. 
 \n\nWe look forward to sharing this journey with you.
X-WR-RELCALID:b53e5acefd0541ae93e2b08a216c3e52
X-WR-TIMEZONE:America/Chicago
BEGIN:VTIMEZONE
TZID:America/Chicago
BEGIN:STANDARD
TZNAME:CST
DTSTART:20191103T020000
TZOFFSETFROM:-0500
TZOFFSETTO:-0600
RDATE:20201101T020000
END:STANDARD
BEGIN:DAYLIGHT
TZNAME:CDT
DTSTART:20200308T020000
TZOFFSETFROM:-0600
TZOFFSETTO:-0500
RDATE:20210314T020000
END:DAYLIGHT
END:VTIMEZONE
BEGIN:VEVENT
UID:60ecfe12-8940-41a4-a3ce-18ca7455ab46
DTSTAMP:20260422T213026Z
DESCRIPTION:Project Pink'd is excited to present Sean Figy M.D.\, a plastic
  and reconstructive surgery specialist with a specialty in reconstructive 
 microsurgery and complex reconstruction. He also has an additional special
 ty in lymphatic surgeries. \n\nIn this Straight Talk: Ask an Expert series
  with Dr. Figy we will explore new and emerging treatments for lymphedema.
  Cutting edge therapies such as lymphovenous bypass and vascularized lymph
  node transplants will be discussed. Special emphasis will be placed on ho
 w these therapies integrate into current treatment modalities.\n\nSo grab 
 a drink\, put on some comfy clothes and tune in with your family for just 
 60 minutes – all in the comfort of your own home!\n\nThis program is compl
 ementary to breast cancer survivors in NE & Western IA and is made possibl
 e by our many generous donors.\n\nNote: This LIVE Video Webcast will be br
 oadcast exclusively on our private Pink'd Survivors Unite Facebook page. 
 \n\nWe look forward to sharing this journey with you.
DTSTART;TZID=America/Chicago:20200318T190000
DTEND;TZID=America/Chicago:20200318T200000
LOCATION:Live Web Video
SUMMARY:Straight Talk:  Ask An Expert |  Surgical Lymphedema: Exploring Cut
 ting Edge Therapies
END:VEVENT
END:VCALENDAR
