BEGIN:VCALENDAR
VERSION:2.0
PRODID:-//projectpinkd.org//NONSGML kigkonsult.se iCalcreator 2.30.10//
CALSCALE:GREGORIAN
METHOD:PUBLISH
UID:729dd1c6-ed66-46db-9678-02c11a77c9ab
X-WR-CALDESC:*Complimentary Thanksgiving Meals are no longer available afte
 r 11/5\n\nOur Care to Share Thanksgiving program is a long-standing tradit
 ion at Project Pink’d\, providing survivors an opportunity to connect with
  other survivors and give thanks for all of our many blessings.   \n\nAlth
 ough we are unable to join together physically this year\, we are fully co
 mmitted to continuing our Care to Share Thanksgiving tradition with the br
 east cancer survivor community. Our virtual program will provide the same 
 warm\, welcoming\, and uplifting experience our special guests have come t
 o expect.  \n\nSurvivors are invited to join us virtually as we connect wi
 th other survivors\, hear inspirational stories from survivors who are now
  thriving\, and gobble up some fun.   \n\nReserve a seat at our virtual ta
 ble\, cozy up with a delicious sweet treat\, and a warm beverage (complime
 nts of Project Pink’d) and give thanks with new friends.  \n\nSweet treats
  will be delivered to registrants prior to our Care to Share Thanksgiving 
 event if reservations are made prior to November 1.  \n\nThis program and 
 the Thanksgiving meal are complimentary to breast cancer survivors in NE &
  Western IA and is made possible by our many generous donors.
X-WR-RELCALID:45a2df9057fde888a792fcb68f24c3ac
X-WR-TIMEZONE:America/Chicago
BEGIN:VTIMEZONE
TZID:America/Chicago
BEGIN:STANDARD
TZNAME:CST
DTSTART:20211107T020000
TZOFFSETFROM:-0500
TZOFFSETTO:-0600
RDATE:20221106T020000
END:STANDARD
BEGIN:DAYLIGHT
TZNAME:CDT
DTSTART:20210314T020000
TZOFFSETFROM:-0600
TZOFFSETTO:-0500
RDATE:20220313T020000
RDATE:20230312T020000
END:DAYLIGHT
END:VTIMEZONE
BEGIN:VEVENT
UID:17600c13-f7c2-457d-92ac-5e15fef178fe
DTSTAMP:20260420T114242Z
DESCRIPTION:*Complimentary Thanksgiving Meals are no longer available after
  11/5\n\nOur Care to Share Thanksgiving program is a long-standing traditi
 on at Project Pink’d\, providing survivors an opportunity to connect with 
 other survivors and give thanks for all of our many blessings.   \n\nAltho
 ugh we are unable to join together physically this year\, we are fully com
 mitted to continuing our Care to Share Thanksgiving tradition with the bre
 ast cancer survivor community. Our virtual program will provide the same w
 arm\, welcoming\, and uplifting experience our special guests have come to
  expect.  \n\nSurvivors are invited to join us virtually as we connect wit
 h other survivors\, hear inspirational stories from survivors who are now 
 thriving\, and gobble up some fun.   \n\nReserve a seat at our virtual tab
 le\, cozy up with a delicious sweet treat\, and a warm beverage (complimen
 ts of Project Pink’d) and give thanks with new friends.  \n\nSweet treats 
 will be delivered to registrants prior to our Care to Share Thanksgiving e
 vent if reservations are made prior to November 1.  \n\nThis program and t
 he Thanksgiving meal are complimentary to breast cancer survivors in NE & 
 Western IA and is made possible by our many generous donors.
DTSTART;TZID=America/Chicago:20211114T130000
DTEND;TZID=America/Chicago:20211114T140000
LOCATION:via Zoom
SUMMARY:2021 Virtual Care to Share Thanksgiving
END:VEVENT
END:VCALENDAR
