BEGIN:VCALENDAR
VERSION:2.0
PRODID:-//projectpinkd.org//NONSGML kigkonsult.se iCalcreator 2.30.10//
CALSCALE:GREGORIAN
METHOD:PUBLISH
UID:070bece3-b78a-4389-91d9-062ba0bd6a37
X-WR-CALDESC:Some survivors find having their nipples tattooed after surger
 y is an important final step in the breast reconstruction process and the 
 closing of a difficult chapter. Without having to undergo another surgery 
 and create new scars\, an experienced tattoo artist can create a realistic
  representation of a nipple with exquisite details. This increasingly popu
 lar\, less invasive option can help increase a survivors self confidence a
 nd make them feel whole again. \n\nThis Straight Talk: Ask An Expert Serie
 s will focus on:\n\n·         Nipple and areola tattooing process\n\n·    
      Length of process\n\n·         How soon after surgery you can have ta
 ttooing done\n\n·         Aftercare\n\n·         Education on proper tatto
 o artist selection\n\nProject Pink'd is excited to welcome Lenny Renken\, 
 Dermagraphic Specialist\, as our guest expert for this series. Mr. Renken 
 is a tattoo artist at Big Brain Productions Tattoo and Piercing. He will a
 nswer YOUR questions regarding Nipple & Areola Tattooing Options LIVE.\n\n
 Note: This LIVE Video Webcast will be broadcast exclusively on our private
  Pink'd Survivors Unite Facebook page. \n\nA link to access the video webc
 ast will also be sent on the day of the event. An edited version of the LI
 VE video will also be posted on our YouTube channel a few weeks after the 
 webcast.\n\nWe look forward to sharing this journey with you.
X-WR-RELCALID:21d4d4beb662cd73e0ff7c03b7bb1d3f
X-WR-TIMEZONE:America/Chicago
BEGIN:VTIMEZONE
TZID:America/Chicago
BEGIN:STANDARD
TZNAME:CST
DTSTART:20211107T020000
TZOFFSETFROM:-0500
TZOFFSETTO:-0600
RDATE:20221106T020000
END:STANDARD
BEGIN:DAYLIGHT
TZNAME:CDT
DTSTART:20210314T020000
TZOFFSETFROM:-0600
TZOFFSETTO:-0500
RDATE:20220313T020000
RDATE:20230312T020000
END:DAYLIGHT
END:VTIMEZONE
BEGIN:VEVENT
UID:7765c904-ea41-479b-94a8-757f1ee16df1
DTSTAMP:20260426T002530Z
DESCRIPTION:Some survivors find having their nipples tattooed after surgery
  is an important final step in the breast reconstruction process and the c
 losing of a difficult chapter. Without having to undergo another surgery a
 nd create new scars\, an experienced tattoo artist can create a realistic 
 representation of a nipple with exquisite details. This increasingly popul
 ar\, less invasive option can help increase a survivors self confidence an
 d make them feel whole again. \n\nThis Straight Talk: Ask An Expert Series
  will focus on:\n\n·         Nipple and areola tattooing process\n\n·     
     Length of process\n\n·         How soon after surgery you can have tat
 tooing done\n\n·         Aftercare\n\n·         Education on proper tattoo
  artist selection\n\nProject Pink'd is excited to welcome Lenny Renken\, D
 ermagraphic Specialist\, as our guest expert for this series. Mr. Renken i
 s a tattoo artist at Big Brain Productions Tattoo and Piercing. He will an
 swer YOUR questions regarding Nipple & Areola Tattooing Options LIVE.\n\nN
 ote: This LIVE Video Webcast will be broadcast exclusively on our private 
 Pink'd Survivors Unite Facebook page. \n\nA link to access the video webca
 st will also be sent on the day of the event. An edited version of the LIV
 E video will also be posted on our YouTube channel a few weeks after the w
 ebcast.\n\nWe look forward to sharing this journey with you.
DTSTART;TZID=America/Chicago:20211118T190000
DTEND;TZID=America/Chicago:20211118T200000
LOCATION:Facebook Live Web Video
SUMMARY:Straight Talk: Ask An Expert | Nipple & Areola Tattooing Options
END:VEVENT
END:VCALENDAR
