BEGIN:VCALENDAR
VERSION:2.0
PRODID:-//projectpinkd.org//NONSGML kigkonsult.se iCalcreator 2.30.10//
CALSCALE:GREGORIAN
METHOD:PUBLISH
UID:d5d17885-db8e-45f8-ac47-d335bf8eb677
X-WR-CALDESC:It’s time to put the “do” in doing good! Join thousands of vol
 unteers across the metro as we celebrate National Volunteer Week with @SHA
 REomaha’s Do Good Days. Help us by building 75 chemotherapy kits to be dis
 tributed across Nebraska and Western IA. Registration opens April 1st.
X-WR-RELCALID:d979aec5fb8928883f253e998472aa84
X-WR-TIMEZONE:America/Chicago
BEGIN:VTIMEZONE
TZID:America/Chicago
BEGIN:STANDARD
TZNAME:CST
DTSTART:20231105T020000
TZOFFSETFROM:-0500
TZOFFSETTO:-0600
RDATE:20241103T020000
END:STANDARD
BEGIN:DAYLIGHT
TZNAME:CDT
DTSTART:20240310T020000
TZOFFSETFROM:-0600
TZOFFSETTO:-0500
RDATE:20250309T020000
END:DAYLIGHT
END:VTIMEZONE
BEGIN:VEVENT
UID:0e0496d1-c17b-482e-b4bb-abd97c6a6ad9
DTSTAMP:20260420T113947Z
DESCRIPTION:It’s time to put the “do” in doing good! Join thousands of volu
 nteers across the metro as we celebrate National Volunteer Week with @SHAR
 Eomaha’s Do Good Days. Help us by building 75 chemotherapy kits to be dist
 ributed across Nebraska and Western IA. Registration opens April 1st.
DTSTART;TZID=America/Chicago:20240424T100000
DTEND;TZID=America/Chicago:20240424T120000
LOCATION:Project Pink'd Office\, 11405 Davenport St\, Omaha\, NE 68154 US
SUMMARY:VOLUNTEERS NEEDED: Do Good Days - Chemo Kit Build
END:VEVENT
END:VCALENDAR
