BEGIN:VCALENDAR
VERSION:2.0
PRODID:-//projectpinkd.org//NONSGML kigkonsult.se iCalcreator 2.30.10//
CALSCALE:GREGORIAN
METHOD:PUBLISH
UID:dc67c8d0-1f4a-489f-a5b0-6ac1ef565243
X-WR-CALDESC:Description: Join us for an exciting evening of preparing deco
 rations for our upcoming gala! This is a wonderful opportunity to contribu
 te to a meaningful cause while having fun and meeting new people. Voluntee
 rs will help with various tasks preparing decorations for the event.\n\nWh
 at We Provide:\n•	Drinks (water and lemonade)\n•	Snacks\nWhat to Bring:\n•	A 
 positive attitude and a willingness to help\n•	Comfortable clothing suitabl
 e for light cleaning and decoration tasks\n
X-WR-RELCALID:f41df06f195ed2f24ed62ea6923b9711
X-WR-TIMEZONE:America/Chicago
BEGIN:VTIMEZONE
TZID:America/Chicago
BEGIN:STANDARD
TZNAME:CST
DTSTART:20231105T020000
TZOFFSETFROM:-0500
TZOFFSETTO:-0600
RDATE:20241103T020000
RDATE:20251102T020000
END:STANDARD
BEGIN:DAYLIGHT
TZNAME:CDT
DTSTART:20240310T020000
TZOFFSETFROM:-0600
TZOFFSETTO:-0500
RDATE:20250309T020000
END:DAYLIGHT
END:VTIMEZONE
BEGIN:VEVENT
UID:49d07fac-6315-4440-9a00-cdc8c62703af
DTSTAMP:20260424T084549Z
DESCRIPTION:Description: Join us for an exciting evening of preparing decor
 ations for our upcoming gala! This is a wonderful opportunity to contribut
 e to a meaningful cause while having fun and meeting new people. Volunteer
 s will help with various tasks preparing decorations for the event.\n\nWha
 t We Provide:\n•	Drinks (water and lemonade)\n•	Snacks\nWhat to Bring:\n•	A p
 ositive attitude and a willingness to help\n•	Comfortable clothing suitable
  for light cleaning and decoration tasks\n
DTSTART;TZID=America/Chicago:20240715T173000
DTEND;TZID=America/Chicago:20240715T200000
LOCATION:Blooms and Bouquets\, 6701 Almira Lane\, Lincoln\, NE 68516 US
SUMMARY:VOLUNTEER: EXPOSED Decoration Prep
END:VEVENT
END:VCALENDAR
