BEGIN:VCALENDAR
VERSION:2.0
PRODID:-//projectpinkd.org//NONSGML kigkonsult.se iCalcreator 2.30.10//
CALSCALE:GREGORIAN
METHOD:PUBLISH
UID:193430cf-c094-4247-9e8c-e18ae36f105a
X-WR-CALDESC:It's time to sip and chat with your survivor friends. \n\nJoin
  other metastatic survivors on the last Tuesday of every month\, in conver
 sation on a range of subjects brought up by YOU. Each month there will be 
 a different topic discussed but as always\, down time to discuss the thing
 s happening in your every day life.\n\nProject Pink’d representatives are 
 not medical professionals. All information provided is based on experience
 . Survivors are encouraged to seek medical advice regarding their treatmen
 t plans.\n\nRegister above!
X-WR-RELCALID:0955d233a19404b729bf6b0dc90a6708
X-WR-TIMEZONE:America/Chicago
BEGIN:VTIMEZONE
TZID:America/Chicago
BEGIN:STANDARD
TZNAME:CST
DTSTART:20241103T020000
TZOFFSETFROM:-0500
TZOFFSETTO:-0600
RDATE:20251102T020000
RDATE:20261101T020000
END:STANDARD
BEGIN:DAYLIGHT
TZNAME:CDT
DTSTART:20250309T020000
TZOFFSETFROM:-0600
TZOFFSETTO:-0500
RDATE:20260308T020000
RDATE:20270314T020000
END:DAYLIGHT
END:VTIMEZONE
BEGIN:VEVENT
UID:754f92ca-24a1-4024-b1ea-640c204160a0
DTSTAMP:20260419T164955Z
DESCRIPTION:It's time to sip and chat with your survivor friends. \n\nJoin 
 other metastatic survivors on the last Tuesday of every month\, in convers
 ation on a range of subjects brought up by YOU. Each month there will be a
  different topic discussed but as always\, down time to discuss the things
  happening in your every day life.\n\nProject Pink’d representatives are n
 ot medical professionals. All information provided is based on experience.
  Survivors are encouraged to seek medical advice regarding their treatment
  plans.\n\nRegister above!
DTSTART;TZID=America/Chicago:20251028T190000
DTEND;TZID=America/Chicago:20251028T200000
LOCATION:Via Teams
SUMMARY:Cup of Conversation: Living with Metastatic Disease
END:VEVENT
END:VCALENDAR
