BEGIN:VCALENDAR
VERSION:2.0
PRODID:-//projectpinkd.org//NONSGML kigkonsult.se iCalcreator 2.30.10//
CALSCALE:GREGORIAN
METHOD:PUBLISH
UID:00344192-38f0-4dd0-b259-418c49581d2a
X-WR-CALDESC:Join our 4-week introductory fitness class\, tailored specific
 ally for breast cancer survivors. Meeting once a week\, each session teach
 es gentle\, recovery-focused exercises that enhance strength\, mobility\, 
 and overall well-being. With a focus on techniques that easily translate i
 nto home workouts\, you'll gain the tools and confidence to continue your 
 fitness journey long after the course ends\, all in a supportive\, empower
 ing environment.\n\nRequirements:\n- Must be a breast cancer survivor who 
 resides in NE or Western IA\n- Must commit to all 4 classes (either Saturd
 ay mornings or Tuesday evenings starting 11/1 & 11/4)\n- Register via the 
 link above\n*REGISTRATION REQUIRED
X-WR-RELCALID:20e2df5242ef368bed8a915d1e41bc48
X-WR-TIMEZONE:America/Chicago
BEGIN:VTIMEZONE
TZID:America/Chicago
BEGIN:STANDARD
TZNAME:CST
DTSTART:20241103T020000
TZOFFSETFROM:-0500
TZOFFSETTO:-0600
RDATE:20251102T020000
RDATE:20261101T020000
END:STANDARD
BEGIN:DAYLIGHT
TZNAME:CDT
DTSTART:20250309T020000
TZOFFSETFROM:-0600
TZOFFSETTO:-0500
RDATE:20260308T020000
RDATE:20270314T020000
END:DAYLIGHT
END:VTIMEZONE
BEGIN:VEVENT
UID:4dda74a9-f8d1-4bbd-8c85-0fc95366748f
DTSTAMP:20260419T150918Z
DESCRIPTION:Join our 4-week introductory fitness class\, tailored specifica
 lly for breast cancer survivors. Meeting once a week\, each session teache
 s gentle\, recovery-focused exercises that enhance strength\, mobility\, a
 nd overall well-being. With a focus on techniques that easily translate in
 to home workouts\, you'll gain the tools and confidence to continue your f
 itness journey long after the course ends\, all in a supportive\, empoweri
 ng environment.\n\nRequirements:\n- Must be a breast cancer survivor who r
 esides in NE or Western IA\n- Must commit to all 4 classes (either Saturda
 y mornings or Tuesday evenings starting 11/1 & 11/4)\n- Register via the l
 ink above\n*REGISTRATION REQUIRED
DTSTART;TZID=America/Chicago:20251101T090000
DTEND;TZID=America/Chicago:20251101T100000
LOCATION:AIM Fitness & Nutrition\, 11922 Standing Stone Dr #300\, Gretna\, 
 NE 68028 US
SUMMARY:IGNITE: Returning to Fitness - Saturdays
END:VEVENT
END:VCALENDAR
