BEGIN:VCALENDAR
VERSION:2.0
PRODID:-//projectpinkd.org//NONSGML kigkonsult.se iCalcreator 2.30.10//
CALSCALE:GREGORIAN
METHOD:PUBLISH
UID:7f849820-ae25-480a-a832-b50b1fa1479a
X-WR-CALDESC:Register NOW for one of our most cherished traditions\, Care t
 o Share Thanksgiving. A time where breast cancer survivors come together i
 n gratitude\, sharing connection\, comfort\, and community.
X-WR-RELCALID:6934690eee65d0cd0f05768b4586e7ac
X-WR-TIMEZONE:America/Chicago
BEGIN:VTIMEZONE
TZID:America/Chicago
BEGIN:STANDARD
TZNAME:CST
DTSTART:20251102T020000
TZOFFSETFROM:-0500
TZOFFSETTO:-0600
RDATE:20261101T020000
END:STANDARD
BEGIN:DAYLIGHT
TZNAME:CDT
DTSTART:20250309T020000
TZOFFSETFROM:-0600
TZOFFSETTO:-0500
RDATE:20260308T020000
RDATE:20270314T020000
END:DAYLIGHT
END:VTIMEZONE
BEGIN:VEVENT
UID:7d7a393b-e460-4b87-985c-b043999c89e2
DTSTAMP:20260419T150641Z
DESCRIPTION:Register NOW for one of our most cherished traditions\, Care to
  Share Thanksgiving. A time where breast cancer survivors come together in
  gratitude\, sharing connection\, comfort\, and community.
DTSTART;TZID=America/Chicago:20251116T130000
DTEND;TZID=America/Chicago:20251116T150000
LOCATION:April Sampson Cancer Center\, 4101 Tiger Lily Rd.\, Lincoln\, NE 6
 8516 US
SUMMARY:LINCOLN: Care to Share Thanksgiving In-person
END:VEVENT
END:VCALENDAR
