BEGIN:VCALENDAR
VERSION:2.0
PRODID:-//projectpinkd.org//NONSGML kigkonsult.se iCalcreator 2.30.10//
CALSCALE:GREGORIAN
METHOD:PUBLISH
UID:3e4e52be-068c-4510-8cbc-fc5731c6d04c
X-WR-CALDESC:Register NOW for one of our most cherished traditions\, Care t
 o Share Thanksgiving. A time where breast cancer survivors come together i
 n gratitude\, sharing connection\, comfort\, and community.\n
X-WR-RELCALID:92233c5bcbff1585880c52a399cc038e
X-WR-TIMEZONE:America/Chicago
BEGIN:VTIMEZONE
TZID:America/Chicago
BEGIN:STANDARD
TZNAME:CST
DTSTART:20251102T020000
TZOFFSETFROM:-0500
TZOFFSETTO:-0600
RDATE:20261101T020000
END:STANDARD
BEGIN:DAYLIGHT
TZNAME:CDT
DTSTART:20250309T020000
TZOFFSETFROM:-0600
TZOFFSETTO:-0500
RDATE:20260308T020000
RDATE:20270314T020000
END:DAYLIGHT
END:VTIMEZONE
BEGIN:VEVENT
UID:d88243ec-b2c1-41af-8c56-ad81b5742b29
DTSTAMP:20260419T150620Z
DESCRIPTION:Register NOW for one of our most cherished traditions\, Care to
  Share Thanksgiving. A time where breast cancer survivors come together in
  gratitude\, sharing connection\, comfort\, and community.\n
DTSTART;TZID=America/Chicago:20251116T130000
DTEND;TZID=America/Chicago:20251116T150000
LOCATION:The Post Event Center\, 7400 Q St\, Ralston\, NE 68127 US
SUMMARY:OMAHA: Care to Share Thanksgiving In-person
END:VEVENT
END:VCALENDAR
