BEGIN:VCALENDAR
VERSION:2.0
PRODID:-//projectpinkd.org//NONSGML kigkonsult.se iCalcreator 2.30.10//
CALSCALE:GREGORIAN
METHOD:PUBLISH
UID:af321292-edef-4d32-a250-399b0d898a06
X-WR-CALDESC:It's time to sip and chat with your survivor friends. \n\nJoin
  other metastatic survivors on the last Tuesday of every month\, in conver
 sation on a range of subjects brought up by YOU. Each month there will be 
 a different topic discussed but as always\, down time to discuss the thing
 s happening in your every day life.
X-WR-RELCALID:33bcd6473a2bf95c6c8f17cee90392b1
X-WR-TIMEZONE:America/Chicago
BEGIN:VTIMEZONE
TZID:America/Chicago
BEGIN:STANDARD
TZNAME:CST
DTSTART:20251102T020000
TZOFFSETFROM:-0500
TZOFFSETTO:-0600
RDATE:20261101T020000
END:STANDARD
BEGIN:DAYLIGHT
TZNAME:CDT
DTSTART:20250309T020000
TZOFFSETFROM:-0600
TZOFFSETTO:-0500
RDATE:20260308T020000
RDATE:20270314T020000
END:DAYLIGHT
END:VTIMEZONE
BEGIN:VEVENT
UID:8a8499f9-eb64-4012-8d3b-de92a03e6446
DTSTAMP:20260421T080844Z
DESCRIPTION:It's time to sip and chat with your survivor friends. \n\nJoin 
 other metastatic survivors on the last Tuesday of every month\, in convers
 ation on a range of subjects brought up by YOU. Each month there will be a
  different topic discussed but as always\, down time to discuss the things
  happening in your every day life.
DTSTART;TZID=America/Chicago:20260224T190000
DTEND;TZID=America/Chicago:20260224T200000
LOCATION:Via Teams
SUMMARY:Cup of Conversation: Living with Metastatic Disease
END:VEVENT
END:VCALENDAR
