BEGIN:VCALENDAR
VERSION:2.0
PRODID:-//projectpinkd.org//NONSGML kigkonsult.se iCalcreator 2.30.10//
CALSCALE:GREGORIAN
METHOD:PUBLISH
UID:3fe7f2af-23b9-4e8a-9544-afc09267cf0b
X-WR-CALDESC:It's time to sip and chat with your survivor friends. \n\nJoin
  other metastatic survivors on the last Tuesday of every month\, in conver
 sation on a range of subjects brought up by YOU. Each month there will be 
 a different topic discussed but as always\, down time to discuss the thing
 s happening in your every day life.
X-WR-RELCALID:0758dbe5a96f4f37e5a38c99be7d2fd3
X-WR-TIMEZONE:America/Chicago
BEGIN:VTIMEZONE
TZID:America/Chicago
BEGIN:STANDARD
TZNAME:CST
DTSTART:20251102T020000
TZOFFSETFROM:-0500
TZOFFSETTO:-0600
RDATE:20261101T020000
RDATE:20271107T020000
END:STANDARD
BEGIN:DAYLIGHT
TZNAME:CDT
DTSTART:20260308T020000
TZOFFSETFROM:-0600
TZOFFSETTO:-0500
RDATE:20270314T020000
END:DAYLIGHT
END:VTIMEZONE
BEGIN:VEVENT
UID:5381f310-9dbe-48d0-9f5a-dafce8bef3ac
DTSTAMP:20260421T111336Z
DESCRIPTION:It's time to sip and chat with your survivor friends. \n\nJoin 
 other metastatic survivors on the last Tuesday of every month\, in convers
 ation on a range of subjects brought up by YOU. Each month there will be a
  different topic discussed but as always\, down time to discuss the things
  happening in your every day life.
DTSTART;TZID=America/Chicago:20260825T190000
DTEND;TZID=America/Chicago:20260825T200000
LOCATION:Via Teams
SUMMARY:Cup of Conversation: Living with Metastatic Disease
END:VEVENT
END:VCALENDAR
