BEGIN:VCALENDAR
VERSION:2.0
PRODID:-//projectpinkd.org//NONSGML kigkonsult.se iCalcreator 2.30.10//
CALSCALE:GREGORIAN
METHOD:PUBLISH
UID:c85b1352-2805-42e6-b683-70d573497b25
X-WR-CALDESC:Join us for a creative and uplifting evening of bracelet makin
 g designed especially for survivors. In this hands-on workshop\, you’ll cr
 eate three beaded bracelets to wear\, share\, or keep as a reminder of str
 ength and support.\n\nUsing a mix of sentiment-inspired designs and coordi
 nating beads\, this experience offers a chance to relax\, connect\, and ex
 press yourself through creativity. No prior jewelry-making experience is n
 eeded.\n\nSpace is limited and registration is required.\n\nThis program i
 s complimentary to breast cancer survivors in NE & Western IA and is made 
 possible by our generous donors.\n\nClick on the Register Now button above
  to register.
X-WR-RELCALID:bf328ac6740616ce96c4dd56c35ab270
X-WR-TIMEZONE:America/Chicago
BEGIN:VTIMEZONE
TZID:America/Chicago
BEGIN:STANDARD
TZNAME:CST
DTSTART:20251102T020000
TZOFFSETFROM:-0500
TZOFFSETTO:-0600
RDATE:20261101T020000
END:STANDARD
BEGIN:DAYLIGHT
TZNAME:CDT
DTSTART:20260308T020000
TZOFFSETFROM:-0600
TZOFFSETTO:-0500
RDATE:20270314T020000
END:DAYLIGHT
END:VTIMEZONE
BEGIN:VEVENT
UID:392a81b6-9edd-485f-9149-1d80fb120d87
DTSTAMP:20260423T005959Z
DESCRIPTION:Join us for a creative and uplifting evening of bracelet making
  designed especially for survivors. In this hands-on workshop\, you’ll cre
 ate three beaded bracelets to wear\, share\, or keep as a reminder of stre
 ngth and support.\n\nUsing a mix of sentiment-inspired designs and coordin
 ating beads\, this experience offers a chance to relax\, connect\, and exp
 ress yourself through creativity. No prior jewelry-making experience is ne
 eded.\n\nSpace is limited and registration is required.\n\nThis program is
  complimentary to breast cancer survivors in NE & Western IA and is made p
 ossible by our generous donors.\n\nClick on the Register Now button above 
 to register.
DTSTART;TZID=America/Chicago:20260503T163000
DTEND;TZID=America/Chicago:20260503T190000
LOCATION:Foxy Squirrel Bead & Boutique\, 2936 South 110th Court\, Omaha\, N
 E 68144 US
SUMMARY:IGNITE: Beaded Bracelets
END:VEVENT
END:VCALENDAR
